BEGIN:VCALENDAR
VERSION:2.0
PRODID:-//DenTen Insurance Services - ECPv6.15.20//NONSGML v1.0//EN
CALSCALE:GREGORIAN
METHOD:PUBLISH
X-ORIGINAL-URL:https://denten.io
X-WR-CALDESC:Events for DenTen Insurance Services
REFRESH-INTERVAL;VALUE=DURATION:PT1H
X-Robots-Tag:noindex
X-PUBLISHED-TTL:PT1H
BEGIN:VTIMEZONE
TZID:UTC
BEGIN:STANDARD
TZOFFSETFROM:+0000
TZOFFSETTO:+0000
TZNAME:UTC
DTSTART:20210101T000000
END:STANDARD
END:VTIMEZONE
BEGIN:VEVENT
DTSTART;TZID=UTC:20220719T190000
DTEND;TZID=UTC:20220719T220000
DTSTAMP:20260421T232434
CREATED:20220630T000526Z
LAST-MODIFIED:20221103T145005Z
UID:602-1658257200-1658268000@denten.io
SUMMARY:DenTen Street Team at Bethel Woods ft: Alanis Morisette
DESCRIPTION:Join the DenTen Street Team at Bethel Woods on Tuesday\, July 19th as Chicago takes the stage! \nSince 1995\, Alanis Morissette has been one of the most influential singer-songwriter-musicians in contemporary music. Her deeply expressive music and performances have earned vast critical praise and seven Grammy awards. Morissette’s 1995 debut\, JAGGED LITTLE PILL\, was followed by nine more eclectic and acclaimed albums. She has contributed musically to theatrical releases and has acted on the big and small screen. Outside of entertainment\, she is an avid supporter of female empowerment\, as well as spiritual\, psychological and physical wellness. In 2001\, Alanis was awarded the Global Tolerance Award by the Friends of the United Nations for her contributions to promoting tolerance through the arts. \nIn 2016\, Alanis launched Conversation with Alanis Morissette\, a monthly podcast that features conversations with a variety of revered authors\, doctors\, educators\, and therapists\, covering a wide range of psychosocial topics extending from spirituality to developmentalism to art. On December 5\, 2019\, JAGGED LITTLE PILL the musical made its Broadway debut at the Broadhurst Theatre in New York City. The show was nominated for fifteen Tony Awards and won 2 Tony Awards at the 2021 ceremony. In July of 2020\, Alanis released her ninth studio album\, Such Pretty Forks In The Road\, to rave reviews. In August of 2021\, Alanis kicked off her sold out world tour celebrating 25 years of Jagged Little Pill. The tour became the #1 female-fronted tour from 2021 and also one of the Top Worldwide Tours of 2021 selling over 500\,000 tickets. Alanis also stars in Fox’s sitcom\, The Great North\, which will return for season 3 in 2022. For more information see www.alanis.com. \nIconic alternative rock band Garbage consists of lead singer Shirley Manson\, multi-instrumentalists Duke Erikson and Steve Marker and drummer Butch Vig. Garbage have been together as a band for over 25 years\, with more than 17 million albums under their belt\, multiple Grammy nominations and a James Bond theme song for the film The World is Not Enough. Described as the “alternative to everything” by Pitchfork Magazine\, Garbage set up their own\, independently-run record label\, STUNVOLUME through which they have been releasing their own records since 2012. The band’s latest\, ferocious new album No Gods No Masters\, released in June of this year\, is an ambitious\, indignant record – overtly socio/ political in tone – touching on themes ranging from global unrest\, encroaching climate change\, the Black Lives Matter movement\, sexism and misogyny. According to music critics all over the globe\, they have made the perfect record to articulate these strange and chaotic times. Enjoying a career of nearly 30 years and counting\, garbage remain one of the most influential bands in alternative rock and one of the most respected live bands of their generation.
URL:https://denten.io/event/denten-street-team-at-bethel-woods-ft-alanis-morisette/
LOCATION:Bethel Woods\, 200 Hurd Road\, Bethel\, NY\, 12720\, United States
CATEGORIES:DenTen Street Team
ATTACH;FMTTYPE=image/png:https://denten.io/wp-content/uploads/2022/07/DenTen-Header-Template_Events.png
END:VEVENT
BEGIN:VEVENT
DTSTART;VALUE=DATE:20220717
DTEND;VALUE=DATE:20220718
DTSTAMP:20260421T232434
CREATED:20220630T000322Z
LAST-MODIFIED:20220630T000322Z
UID:600-1658016000-1658102399@denten.io
SUMMARY:DenTen Street Team at SplashDown Beach
DESCRIPTION:SplashDown Beach Water Park in Fishkill\, NY features water rides for all ages and fun for the whole family. Be on the lookout for the DenTen Street Team!
URL:https://denten.io/event/denten-street-team-at-splashdown-beach-2/
LOCATION:Splashdown Beach\, 16 Old Rte 9W\, Fishkill\, NY\, 12524\, United States
CATEGORIES:DenTen Street Team
ATTACH;FMTTYPE=image/jpeg:https://denten.io/wp-content/uploads/2022/06/283501069_5400159446682852_2645717108327168506_n.jpeg
END:VEVENT
BEGIN:VEVENT
DTSTART;TZID=UTC:20220714T190000
DTEND;TZID=UTC:20220714T220000
DTSTAMP:20260421T232434
CREATED:20220630T000049Z
LAST-MODIFIED:20220630T000211Z
UID:596-1657825200-1657836000@denten.io
SUMMARY:DenTen Street Team at Bethel Woods ft: Chicago
DESCRIPTION:Join the DenTen Street Team at Bethel Woods on Thursday\, July 14th as Chicago takes the stage! \nThis American rock band formed in Chicago\, IL in 1967. In their 50+ years of existence\, Chicago have sold over 100 million records\, making them one of the best selling music groups of all time. They found success with both their original progressive sound\, including early hits “Make Me Smile” and “25 or 6 to 4\,” as well as their later\, soft-rock based sound developed in the 1980s\, including “Hard to Say I’m Sorry” and “You’re the Inspiration.” To date\, the band has had 23 gold\, 18 platinum\, and eight multi-platinum albums\, five consecutive number-one albums on the Billboard 200\, 20 top-ten singles on the Billboard Hot 100\, ten Grammy Award nominations\, one Grammy win\, a Grammy Lifetime Achievement Award\, and an induction of its original members into the Rock and Roll Hall of Fame. Though many members have came and gone\, the band has remained active through its entire career\, consistently releasing new music and touring. \nBest known as the founder and songwriting force of the Beach Boys\, Brian Douglas Wilson (b. June 20\, 1942) is an American musician\, singer\, songwriter\, and record producer from Hawthorne\, CA. On top of his work with the Beach Boys\, Wilson scored top hits as a producer for other acts as well as releasing music as a solo artist\, the first of which was the single “Caroline\, No” in 1966. Throughout his career\, Wilson has struggled with mental health and substance abuse issues\, which made him largely reclusive and absent musically through the latter half of the sixties and early seventies. He relaunched his solo career twice with “The Beach Boys Love You” in 1977 and “Brian Wilson” in 1988. Wilson began touring as a solo artist in 1999\, and has continued touring regularly ever since. Widely considered one of the most influential artists of rock and pop music\, he has left his mark especially as a “producer auteur”\, recording and producing every element of his music himself and using the studio as an instrument.
URL:https://denten.io/event/denten-street-team-at-bethel-woods-ft-chicago/
LOCATION:Bethel Woods\, 200 Hurd Road\, Bethel\, NY\, 12720\, United States
CATEGORIES:DenTen Street Team
ATTACH;FMTTYPE=image/jpeg:https://denten.io/wp-content/uploads/2022/06/ChicagoLivePhoto2021_0.jpeg
END:VEVENT
BEGIN:VEVENT
DTSTART;TZID=UTC:20220714T180500
DTEND;TZID=UTC:20220714T220000
DTSTAMP:20260421T232434
CREATED:20220629T235843Z
LAST-MODIFIED:20220629T235843Z
UID:594-1657821900-1657836000@denten.io
SUMMARY:It's Everybody's Birthday at the Dutch on July 14th!
DESCRIPTION:Celebrate your birthday with the DenTen Street Team at the Dutch on Thursday\, July 14th as we root on the Renegades!
URL:https://denten.io/event/its-everybodys-birthday-at-the-dutch-on-july-14th/
LOCATION:Dutchess Stadium\, 1500 NY-9D\, Wappingers Falls\, NY\, 12590\, United States
CATEGORIES:DenTen Street Team
ATTACH;FMTTYPE=image/jpeg:https://denten.io/wp-content/uploads/2022/06/10481512_693020217436809_8314999293266561036_o.jpeg
END:VEVENT
BEGIN:VEVENT
DTSTART;VALUE=DATE:20220710
DTEND;VALUE=DATE:20220711
DTSTAMP:20260421T232434
CREATED:20220629T235557Z
LAST-MODIFIED:20220629T235557Z
UID:590-1657411200-1657497599@denten.io
SUMMARY:DenTen Street Team at Splashdown Beach
DESCRIPTION:SplashDown Beach Water Park in Fishkill\, NY features water rides for all ages and fun for the whole family. Be on the lookout for the DenTen Street Team!
URL:https://denten.io/event/denten-street-team-at-splashdown-beach/
LOCATION:Splashdown Beach\, 16 Old Rte 9W\, Fishkill\, NY\, 12524\, United States
CATEGORIES:DenTen Street Team
ATTACH;FMTTYPE=image/jpeg:https://denten.io/wp-content/uploads/2022/06/283501069_5400159446682852_2645717108327168506_n.jpeg
END:VEVENT
BEGIN:VEVENT
DTSTART;TZID=UTC:20220709T193000
DTEND;TZID=UTC:20220709T220000
DTSTAMP:20260421T232434
CREATED:20220629T235249Z
LAST-MODIFIED:20220629T235249Z
UID:586-1657395000-1657404000@denten.io
SUMMARY:DenTen Street Team at Movies Under the Walkway ft Spiderman: No Way Home
DESCRIPTION:Poughkeepsie\, NY: Four free\, family-friendly movies will be shown on the big screen beneath the Walkway Over the Hudson at the Upper Landing Park in Poughkeepsie\, this summer\, presented by the Millman Harris Romano Foundation and in partnership with Dutchess County Parks and Walkway Over the Hudson. Children’s activities and fun for the whole family will precede each movie. Check-in will begin at 7:30 p.m. each night\, and the feature film will begin at approximately 8:30 p.m. Registration is required in advance at DutchessNY.gov/ParksMovies\n\nKid’s Costume Contest Night – Spiderman: No Way Home
URL:https://denten.io/event/denten-street-team-at-movies-under-the-walkway-ft-spiderman-no-way-home/
LOCATION:Upper Landing Park\, 83 N Water Street\, Poughkeepsie\, NY\, 12601\, United States
CATEGORIES:DenTen Street Team
ATTACH;FMTTYPE=image/jpeg:https://denten.io/wp-content/uploads/2022/06/284245933_3219559708313488_7837652671691855665_n.jpeg
END:VEVENT
BEGIN:VEVENT
DTSTART;TZID=UTC:20220704T183000
DTEND;TZID=UTC:20220704T213000
DTSTAMP:20260421T232434
CREATED:20220629T234747Z
LAST-MODIFIED:20220629T234747Z
UID:583-1656959400-1656970200@denten.io
SUMMARY:DenTen Street Team at the 4th of July Fireworks Over the Hudson River
DESCRIPTION:EXPERIENCE FIREWORKS OVER THE HUDSON RIVER!\n\nDon’t miss your chance to see fireworks from eye level with an unobstructed view 212 feet above the Hudson River on the World’s Longest Elevated Pedestrian Bridge.\n\nOn Monday\, July 4\, Walkway Over the Hudson will be open to ticket holders only to view the City of Poughkeepsie fireworks display. Space is limited at this event and registration is required for all attendees. Children age 10 and under are free but require a ticket to be reserved in advance.\n\nTimeline of event:\n4:30pm – Walkway closes to the public for event setup and safety preparations\n6:30pm – Walkway re-opens to ticketholders\n9:00pm-9:15pm – Estimated start time of fireworks show\n9:30pm – Walkway closes to the public\n\nDon’t delay purchasing your tickets! Attendance is strictly limited and tickets have sold out in the past.\nThe Friends of the Walkway nonprofit organization is a proud lead sponsor of the City of Poughkeepsie’s annual fireworks. Proceeds from ticket sales support the Walkway and help us fund community events like the annual fireworks display\, improve the park with new amenities and construction\, support our volunteer Ambassadors\, tell the historical story of the bridge\, and more!\n\nTICKET INFORMATION\nTickets are valid for access at either entrance to the bridge. Attendees can choose to park at the East (Poughkeepsie) OR West (Highland) entrances.\nGeneral Admission: $20\nSeniors 65+ or Veterans: $15\nWalkway Members*: $15\nChildren 10 and Under: FREE when accompanied by a paid adult (ALL children must be registered and have a ticket to enter).\n\nWalkway members receive a discount for this event. Please register your attendees and use your fireworks code to apply the discount. For help\, please reach out to our membership manager\, Lauren Berg\, at 845-454-9649 X105 or lberg@walkway.org. To become a Walkway member visit join.walkway.org.\n\nVisit https://app.mobilecause.com/e/QOEKnw?vid=rqvqs for tickets and more information!
URL:https://denten.io/event/denten-street-team-at-the-4th-of-july-fireworks-over-the-hudson-river/
LOCATION:NY
CATEGORIES:DenTen Street Team
ATTACH;FMTTYPE=image/jpeg:https://denten.io/wp-content/uploads/2022/06/280654535_10166092969010005_8779743165241943117_n.jpeg
END:VEVENT
BEGIN:VEVENT
DTSTART;TZID=UTC:20220704T100000
DTEND;TZID=UTC:20220704T120000
DTSTAMP:20260421T232434
CREATED:20220629T234504Z
LAST-MODIFIED:20220629T234504Z
UID:580-1656928800-1656936000@denten.io
SUMMARY:DenTen Street Team at the Hyde Park 4th of July Parade
DESCRIPTION:Look out for the DenTen Street team on July 4th in Hyde Park as we celebrate Independence Day in the Hudson Valley!
URL:https://denten.io/event/denten-street-team-at-the-hyde-park-4th-of-july-parade/
LOCATION:NY
CATEGORIES:DenTen Street Team
ATTACH;FMTTYPE=image/jpeg:https://denten.io/wp-content/uploads/2022/06/287081652_5111897698858793_3142153552211432164_n.jpeg
END:VEVENT
BEGIN:VEVENT
DTSTART;TZID=UTC:20220702T180500
DTEND;TZID=UTC:20220702T210000
DTSTAMP:20260421T232434
CREATED:20220629T234156Z
LAST-MODIFIED:20220629T234522Z
UID:576-1656785100-1656795600@denten.io
SUMMARY:DenTen Street Team at the Renegades Game
DESCRIPTION:Join the DenTen Street Team at the Dutch as we root on the Dutchess County Renegades! They’ll be playing against the Brooklyn Cyclones starting at 6:05PM. It’ll be a Beach Night theme with post-game fireworks. We’ll see YOU at the Dutch!
URL:https://denten.io/event/denten-street-team-at-the-renegades-game/
LOCATION:Dutchess Stadium\, 1500 NY-9D\, Wappingers Falls\, NY\, 12590\, United States
CATEGORIES:DenTen Street Team
ATTACH;FMTTYPE=image/jpeg:https://denten.io/wp-content/uploads/2022/06/10481512_693020217436809_8314999293266561036_o.jpeg
END:VEVENT
END:VCALENDAR